BEGIN:VCALENDAR
VERSION:2.0
PRODID:-//pretix//pretix.eu//
BEGIN:VTIMEZONE
TZID:Europe/Ljubljana
BEGIN:STANDARD
DTSTART:20001029T040000
RRULE:FREQ=YEARLY;BYDAY=-1SU;BYMONTH=10
TZNAME:CET
TZOFFSETFROM:+0200
TZOFFSETTO:+0100
END:STANDARD
BEGIN:DAYLIGHT
DTSTART:20000326T030000
RRULE:FREQ=YEARLY;BYDAY=-1SU;BYMONTH=3
TZNAME:CEST
TZOFFSETFROM:+0100
TZOFFSETTO:+0200
END:DAYLIGHT
END:VTIMEZONE
BEGIN:VEVENT
UID:pretix-emanat-dekstop-0@tix.emanat.si
DTSTART;TZID=Europe/Ljubljana:20211212T180000
DTEND;TZID=Europe/Ljubljana:20211212T190000
DESCRIPTION:Tickets: https://tix.emanat.si/dekstop/\nOrganizer: Emanat
DTSTAMP:20260424T181729Z
LOCATION:Spletni prenos na Pretok.tv v živo iz Studia 103 (povezavo do ogl
 eda dobite pred dogodkom na svoj e-naslov)
SUMMARY:Luka Prinčič: trans.fail/desktop
END:VEVENT
END:VCALENDAR
